BEGIN:VCALENDAR
VERSION:2.0
PRODID:-//DARE-NL - ECPv6.15.20//NONSGML v1.0//EN
CALSCALE:GREGORIAN
METHOD:PUBLISH
X-WR-CALNAME:DARE-NL
X-ORIGINAL-URL:https://www.dare-nl.nl
X-WR-CALDESC:Events for DARE-NL
REFRESH-INTERVAL;VALUE=DURATION:PT1H
X-Robots-Tag:noindex
X-PUBLISHED-TTL:PT1H
BEGIN:VTIMEZONE
TZID:Europe/Amsterdam
BEGIN:DAYLIGHT
TZOFFSETFROM:+0100
TZOFFSETTO:+0200
TZNAME:CEST
DTSTART:20250330T010000
END:DAYLIGHT
BEGIN:STANDARD
TZOFFSETFROM:+0200
TZOFFSETTO:+0100
TZNAME:CET
DTSTART:20251026T010000
END:STANDARD
BEGIN:DAYLIGHT
TZOFFSETFROM:+0100
TZOFFSETTO:+0200
TZNAME:CEST
DTSTART:20260329T010000
END:DAYLIGHT
BEGIN:STANDARD
TZOFFSETFROM:+0200
TZOFFSETTO:+0100
TZNAME:CET
DTSTART:20261025T010000
END:STANDARD
BEGIN:DAYLIGHT
TZOFFSETFROM:+0100
TZOFFSETTO:+0200
TZNAME:CEST
DTSTART:20270328T010000
END:DAYLIGHT
BEGIN:STANDARD
TZOFFSETFROM:+0200
TZOFFSETTO:+0100
TZNAME:CET
DTSTART:20271031T010000
END:STANDARD
END:VTIMEZONE
BEGIN:VEVENT
DTSTART;TZID=Europe/Amsterdam:20260520T120000
DTEND;TZID=Europe/Amsterdam:20260520T180000
DTSTAMP:20260422T180156
CREATED:20260409T092417Z
LAST-MODIFIED:20260422T120221Z
UID:9002-1779278400-1779300000@www.dare-nl.nl
SUMMARY:CBG-MEB - MEB-CCMO Science Day 2026
DESCRIPTION:The Medicines Evaluation Board (MEB) and the Central Committee on Research Involving Human Subjects (CCMO) organize Science Day 2026. This year’s focus is on N-of-1 individualized therapies and how these highly tailored treatments can be responsibly brought to patients. Click here to view the program and register for the event
URL:https://www.dare-nl.nl/event/cbg-meb-meb-ccmo-science-day-2026/
LOCATION:Bibliotheek Utrecht\, Neude 11\, Utrecht\, Utrecht\, 3512AE\, Netherlands
CATEGORIES:Event
END:VEVENT
BEGIN:VEVENT
DTSTART;TZID=Europe/Amsterdam:20260703T090000
DTEND;TZID=Europe/Amsterdam:20260703T170000
DTSTAMP:20260422T180156
CREATED:20260213T105750Z
LAST-MODIFIED:20260422T120221Z
UID:6654-1783069200-1783098000@www.dare-nl.nl
SUMMARY:DARE-NL - Operator Workshop 2026
DESCRIPTION:Following the succes from last year\, the second operator workshop is organized by DARE-NL. This workshop is organized by and for enthousiastic operators\, technicians and other experts that develop and produce ATMPs on the daily from centers all around the Netherlands. The goal of this workshop is to exchange experiences and common practics\, discuss challenges and gain new insights. \nRegister here. \nProgram: \n09:00  –  09:30 | Registration/arrival guests with coffee/tea \n09:30  –  10:15 | Introduction & presentation by ATMP NL \n10:15  –  10:25 | Division into smaller groups \n10:25  –  11:10 | Break-out session 1 / Tour round 1 \n11:10  –  11:30 | Break \n11:30  –  11:50 | Parallel session \n11:50  –  12:30 | Break-out session 2 / Tour round 2 \n12:30  –  13:30 | Lunch \n13:30  –  14:15 | Parallel session \n14:15  –  15:00 | Break-out session 3 / Tour round 3 \n15:00  –  15:20 | Break \n15:20  –  16:00 | Closing up (presentation and global discussion) \n16:00 | Drinks \n  \n 
URL:https://www.dare-nl.nl/event/dare-nl-operator-workshop-2026/
LOCATION:Netherlands Cancer Institute\, Plesmanlaan 121\, Amsterdam\, Noord-Holland\, 1066CX\, Netherlands
CATEGORIES:Event
END:VEVENT
BEGIN:VEVENT
DTSTART;TZID=Europe/Amsterdam:20260918T093000
DTEND;TZID=Europe/Amsterdam:20260918T163000
DTSTAMP:20260422T180156
CREATED:20251204T080257Z
LAST-MODIFIED:20260422T120220Z
UID:6500-1789723800-1789749000@www.dare-nl.nl
SUMMARY:DARE-NL - Annual Consortium Meeting 2026
DESCRIPTION:The registration for the yearly DARE-NL Annual Consortium Meeting 2026 is officially open! You can find the program and register here.
URL:https://www.dare-nl.nl/event/dare-nl-annual-meeting-2026/
LOCATION:Princess Máxima Center\, Heidelberglaan 25\, Utrecht\, 3584CS\, Netherlands
CATEGORIES:Event
END:VEVENT
END:VCALENDAR